BEGIN:VCALENDAR
VERSION:2.0
PRODID:-//Dancealchemy - ECPv5.16.3.1//NONSGML v1.0//EN
CALSCALE:GREGORIAN
METHOD:PUBLISH
X-WR-CALNAME:Dancealchemy
X-ORIGINAL-URL:https://www.dancealchemy.us
X-WR-CALDESC:Events for Dancealchemy
BEGIN:VTIMEZONE
TZID:America/Phoenix
BEGIN:STANDARD
TZOFFSETFROM:-0700
TZOFFSETTO:-0700
TZNAME:MST
DTSTART:20220101T000000
END:STANDARD
END:VTIMEZONE
BEGIN:VEVENT
DTSTART;TZID=America/Phoenix:20221111T100000
DTEND;TZID=America/Phoenix:20221125T123000
DTSTAMP:20260422T053935
CREATED:20221101T203224Z
LAST-MODIFIED:20221103T223945Z
UID:2565-1668160800-1669379400@www.dancealchemy.us
SUMMARY:Chakra Awakening Series
DESCRIPTION:Chakra Awakening Series\nsomatic movement transformation \nNovember 11th\,18th\, and 25th \nTools for Life\nChakra Awakening Series –\n3 classes to understand\, heal and transform traumatic life issues that we carry in our bodies\nthrough the alchemy of somatic experiencing\, dance and meditation. \nOur energy centers\, or chakras\, are related to different areas of life\, so the fears and difficulties we have in life as well as our gifts and strengths can be contacted\, healed and expanded when we explore the chakras. \nTo awaken them\, and through inner alchemy\, somatic work and dance\, allow our life energies to be danced back to wholeness. \nClass 1 – 4th and 1st chakra\nBringing Love to 1st chakra issues:\nSurvival\, Health\, Money\nVitality\, Fear\, Sex \nClass 2 – 2nd chakra\nIntimacy\, sensitivity\, capacity to feel\nEmotional Intelligence\nJoy of Feeling \nClass 3 – 3rd chakra\nPower\, Strength\, Boundaries\nAction\, Dignity\, Joy \nIn today’s world we can choose to go down with the suffering of centuries of destruction and repression\, or to use this chance to transform and go beyond\, before it is too late.  \n*If you are unable to make these times\, there is an option to participate through recordings and join online for a last meeting. \n🔆 \nComment from a participant: \n\n“It was amazing to dance\, to feel the chakras\, to express these feelings in dance\, to accept myself AS I AM\, to give my acceptance to other people! You helped me to bring AWARENESS & INTENSITY in my life!￰ I feel real joy and so much happiness inside?\nD. Shriya\, St. Petersburg\, Russia\n \n \n\n“In the moment I learned how to come in touch with the heart space\, my meditation went deeper. It was like the missing piece. After so many years of meditation\, the heart is the part that was kind of missing.”\nD. Vargas\, Berlin\, Germany\n \n\n🔆 \n        \n          \n            \n            \nYou can register using this form\n\n            \n                      \n          149$ \n            0$ including fee 0$\n            \n            \n            \n            \n            \n            * i agree to receive the Dance Alchemy Monthly Newsletter\n          \n           
URL:https://www.dancealchemy.us/event/chakra-awakening-series/
LOCATION:on Zoom
ORGANIZER;CN="Maneesha%20McClure":MAILTO:danceoflife8@gmail.com
END:VEVENT
END:VCALENDAR