BEGIN:VCALENDAR
VERSION:2.0
PRODID:-//Dancealchemy - ECPv5.16.3.1//NONSGML v1.0//EN
CALSCALE:GREGORIAN
METHOD:PUBLISH
X-WR-CALNAME:Dancealchemy
X-ORIGINAL-URL:https://www.dancealchemy.us
X-WR-CALDESC:Events for Dancealchemy
BEGIN:VTIMEZONE
TZID:America/Phoenix
BEGIN:STANDARD
TZOFFSETFROM:-0700
TZOFFSETTO:-0700
TZNAME:MST
DTSTART:20240101T000000
END:STANDARD
END:VTIMEZONE
BEGIN:VEVENT
DTSTART;TZID=America/Phoenix:20240622T090000
DTEND;TZID=America/Phoenix:20240622T223000
DTSTAMP:20260421T222122
CREATED:20240616T180047Z
LAST-MODIFIED:20240616T180156Z
UID:2849-1719046800-1719095400@www.dancealchemy.us
SUMMARY:Finding Joy
DESCRIPTION:It’s so important in these times where many things are triggering us within and without… To remember the beauty of life\, and why we are here. Even within challenges\, we can find Joy. And when we move our bodies with all these impulses and feelings\, we join in with the dance of life as it guides us! With dance alchemy\, we will warm up our bodies\, have fun\, have a chance to work with something that’s going in our lives\, and open the secret alchemy of the heart.
URL:https://www.dancealchemy.us/event/finding-joy/
LOCATION:online
ORGANIZER;CN="Osho%20Niranjana%20Meditation%20Center":MAILTO:osho.nmc@gmail.com
END:VEVENT
END:VCALENDAR